BEGIN:VCALENDAR
VERSION:2.0
PRODID:-//Big Country Adult Learning Center - ECPv6.15.20//NONSGML v1.0//EN
CALSCALE:GREGORIAN
METHOD:PUBLISH
X-ORIGINAL-URL:https://bigcountrylearning.com
X-WR-CALDESC:Events for Big Country Adult Learning Center
REFRESH-INTERVAL;VALUE=DURATION:PT1H
X-Robots-Tag:noindex
X-PUBLISHED-TTL:PT1H
BEGIN:VTIMEZONE
TZID:UTC
BEGIN:STANDARD
TZOFFSETFROM:+0000
TZOFFSETTO:+0000
TZNAME:UTC
DTSTART:20220101T000000
END:STANDARD
END:VTIMEZONE
BEGIN:VEVENT
DTSTART;TZID=UTC:20231101T183000
DTEND;TZID=UTC:20231101T203000
DTSTAMP:20260421T094511
CREATED:20231030T135736Z
LAST-MODIFIED:20231030T135736Z
UID:860-1698863400-1698870600@bigcountrylearning.com
SUMMARY:Buying Real Estate?
DESCRIPTION:Get insight from experts in major steps of the home-buying journey! \nYou’ll learn about: \n\nMortgages\, mortgage products\, things to plan for\, and ways to work with your financial institution\nHome insurance consideration\nInformation on the real estate market\, and key considerations when buying for investment\, or primary residence\n\nLight refreshments will be provided
URL:https://bigcountrylearning.com/event/buying-real-estate/
LOCATION:Big Country Community Adult Learning Centre\, 113 2 Ave West\, Oyen\, Alberta\, Canada
END:VEVENT
END:VCALENDAR