BEGIN:VCALENDAR
VERSION:2.0
PRODID:-//Big Country Adult Learning Center - ECPv6.15.20//NONSGML v1.0//EN
CALSCALE:GREGORIAN
METHOD:PUBLISH
X-ORIGINAL-URL:https://bigcountrylearning.com
X-WR-CALDESC:Events for Big Country Adult Learning Center
REFRESH-INTERVAL;VALUE=DURATION:PT1H
X-Robots-Tag:noindex
X-PUBLISHED-TTL:PT1H
BEGIN:VTIMEZONE
TZID:UTC
BEGIN:STANDARD
TZOFFSETFROM:+0000
TZOFFSETTO:+0000
TZNAME:UTC
DTSTART:20220101T000000
END:STANDARD
END:VTIMEZONE
BEGIN:VEVENT
DTSTART;TZID=UTC:20231123T163000
DTEND;TZID=UTC:20231123T183000
DTSTAMP:20260421T094510
CREATED:20231002T144805Z
LAST-MODIFIED:20231002T144805Z
UID:840-1700757000-1700764200@bigcountrylearning.com
SUMMARY:Money Matters
DESCRIPTION:
URL:https://bigcountrylearning.com/event/money-matters-4/
END:VEVENT
END:VCALENDAR