BEGIN:VCALENDAR
VERSION:2.0
PRODID:-//Big Country Adult Learning Center - ECPv6.15.20//NONSGML v1.0//EN
CALSCALE:GREGORIAN
METHOD:PUBLISH
X-ORIGINAL-URL:https://bigcountrylearning.com
X-WR-CALDESC:Events for Big Country Adult Learning Center
REFRESH-INTERVAL;VALUE=DURATION:PT1H
X-Robots-Tag:noindex
X-PUBLISHED-TTL:PT1H
BEGIN:VTIMEZONE
TZID:UTC
BEGIN:STANDARD
TZOFFSETFROM:+0000
TZOFFSETTO:+0000
TZNAME:UTC
DTSTART:20220101T000000
END:STANDARD
END:VTIMEZONE
BEGIN:VEVENT
DTSTART;TZID=UTC:20231130T163000
DTEND;TZID=UTC:20231130T183000
DTSTAMP:20260421T080207
CREATED:20231002T144805Z
LAST-MODIFIED:20231002T144805Z
UID:841-1701361800-1701369000@bigcountrylearning.com
SUMMARY:Money Matters
DESCRIPTION:
URL:https://bigcountrylearning.com/event/money-matters-5/
END:VEVENT
END:VCALENDAR